BEGIN:VCALENDAR
VERSION:2.0
PRODID:icalendar-ruby
CALSCALE:GREGORIAN
METHOD:PUBLISH
BEGIN:VEVENT
DTSTAMP:20260420T054938Z
UID:5-391585@hwwcnow.org
DTSTART:20261101T150000Z
DTEND:20261101T160000Z
CLASS:PUBLIC
CREATED:20260419T231739
DESCRIPTION:Sunday Worship
LAST-MODIFIED:20260419T231739
LOCATION:
SUMMARY:Sunday Worship
URL;VALUE=URI:https://www.hwwcnow.org/events/sunday-worship/2026-11-01
END:VEVENT
END:VCALENDAR
