BEGIN:VCALENDAR
VERSION:2.0
PRODID:icalendar-ruby
CALSCALE:GREGORIAN
METHOD:PUBLISH
BEGIN:VEVENT
DTSTAMP:20260420T041537Z
UID:5-391584@hwwcnow.org
DTSTART:20261025T140000Z
DTEND:20261025T150000Z
CLASS:PUBLIC
CREATED:20260419T231739
DESCRIPTION:Sunday Worship
LAST-MODIFIED:20260419T231739
LOCATION:
SUMMARY:Sunday Worship
URL;VALUE=URI:https://www.hwwcnow.org/events/sunday-worship/2026-10-25
END:VEVENT
END:VCALENDAR
