BEGIN:VCALENDAR
VERSION:2.0
PRODID:icalendar-ruby
CALSCALE:GREGORIAN
METHOD:PUBLISH
BEGIN:VEVENT
DTSTAMP:20260420T010935Z
UID:5-391321@hwwcnow.org
DTSTART:20261011T140000Z
DTEND:20261011T150000Z
CLASS:PUBLIC
CREATED:20260419T193927
DESCRIPTION:Sunday Worship
LAST-MODIFIED:20260419T193927
LOCATION:
SUMMARY:Sunday Worship
URL;VALUE=URI:https://www.hwwcnow.org/events/sunday-worship/2026-10-11
END:VEVENT
END:VCALENDAR
